BEGIN:VCALENDAR
PRODID:-//github.com/rianjs/ical.net//NONSGML ical.net 4.0//EN
VERSION:2.0
BEGIN:VEVENT
DESCRIPTION:Details:\nhttps://bbyo.org/bbyo-near-you/regions/lonestar-regi
 on/austin-top-golf-azaa-bbgg-at-regionals\n\nSummary:\nJoin our older mem
 bers for some AZAA (Aleph Zadik Aleph Athletics) and BBGG (B'nai B'rith G
 irls Games) at Top Golf during Regionals! Maximum of 50 teens\, so sign u
 p asap!\n\n \n\nCost: $30 for n
DTEND:20210117T160000
DTSTAMP:20260423T200317Z
DTSTART:20210117T140000
LOCATION:Austin Texas
SEQUENCE:0
SUMMARY:Austin: Top Golf AZAA/BBGG at Regionals
UID:8d52ba1e-fb81-4161-af64-1ac04a705600
END:VEVENT
END:VCALENDAR
