BEGIN:VCALENDAR
PRODID:-//github.com/rianjs/ical.net//NONSGML ical.net 4.0//EN
VERSION:2.0
BEGIN:VEVENT
DESCRIPTION:Details:\nhttps://bbyo.org/bbyo-near-you/regions/wisconsin-reg
 ion/wi-regional-elections-2021\n\nSummary:\nThe Election of Wisconsin Reg
 ion's 72nd Regional Board
DTEND:20210531T150000
DTSTAMP:20260423T201124Z
DTSTART:20210530T100000
LOCATION:Zoom
SEQUENCE:0
SUMMARY:WI - Regional Elections 2021
UID:494be1e3-7cb6-4c6f-af11-4bc5912c555a
END:VEVENT
END:VCALENDAR
