BEGIN:VCALENDAR
PRODID:-//github.com/rianjs/ical.net//NONSGML ical.net 4.0//EN
VERSION:2.0
BEGIN:VEVENT
DESCRIPTION:Details:\nhttps://bbyo.org/bbyo-near-you/regions/pacific-weste
 rn-region/la-bbyo-summer-experience-night
DTEND:20231025T200000
DTSTAMP:20260423T043106Z
DTSTART:20231025T183000
LOCATION:Tarzana California
SEQUENCE:0
SUMMARY:LA BBYO Summer Experience Night
UID:0497050f-9e6f-457a-898a-2f61dd478454
END:VEVENT
END:VCALENDAR
