BEGIN:VCALENDAR
PRODID:-//github.com/rianjs/ical.net//NONSGML ical.net 4.0//EN
VERSION:2.0
BEGIN:VEVENT
DESCRIPTION:Details:\nhttps://bbyo.org/bbyo-near-you/regions/great-midwest
 -region/gmr-regional-board-august-execs-(pc-4000)\n\nSummary:\nGMR REGION
 AL BOARD TRAINING \n\nRegional Board - register here for the regional boa
 rd training.  \n\nFriday\, August 26 - regional board bonding sleepover \
 nSaturday\, August 27 - regional boa
DTEND:20160928T140000
DTSTAMP:20260421T002211Z
DTSTART:20160926T180000
LOCATION:Hilton Northbrook / Chicago
SEQUENCE:0
SUMMARY:GMR Regional Board August Execs (PC 4000)
UID:3009a929-f972-486f-8bee-c57fc937d182
END:VEVENT
END:VCALENDAR
