BEGIN:VCALENDAR
PRODID:-//github.com/rianjs/ical.net//NONSGML ical.net 4.0//EN
VERSION:2.0
BEGIN:VEVENT
DESCRIPTION:Details:\nhttps://bbyo.org/bbyo-near-you/regions/connecticut-v
 alley-region/cvr-snl-2-0
DTEND:20180210T000100
DTSTAMP:20260423T002002Z
DTSTART;VALUE=DATE:20180210
LOCATION:
SEQUENCE:0
SUMMARY:CVR SNL 2.0
UID:ddf25d83-6828-4029-9c5e-4f527dc6d848
END:VEVENT
END:VCALENDAR
