BEGIN:VCALENDAR
PRODID:-//github.com/rianjs/ical.net//NONSGML ical.net 4.0//EN
VERSION:2.0
BEGIN:VEVENT
DESCRIPTION:Details:\nhttps://bbyo.org/bbyo-near-you/regions/delta-region/
 csr-ic-spirit-pack-2017-(pc-2140)
DTEND:20170220T130000
DTSTAMP:20260423T002247Z
DTSTART:20170216T130000
LOCATION:Computer
SEQUENCE:0
SUMMARY:CSR IC Spirit Pack 2017 - (PC 2140)
UID:3598be38-a1a0-4229-a8b3-72d814672d99
END:VEVENT
END:VCALENDAR
