BEGIN:VCALENDAR
PRODID:-//github.com/rianjs/ical.net//NONSGML ical.net 4.0//EN
VERSION:2.0
BEGIN:VEVENT
DESCRIPTION:Details:\nhttps://bbyo.org/bbyo-near-you/regions/gold-coast-re
 gion/bbyo-popsockets\n\nSummary:\nGCR is selling BBYO Popsockets. The mon
 ey raised is going to ISF and regional scholarship.
DTEND;VALUE=DATE:20160629
DTSTAMP:20260422T083117Z
DTSTART;VALUE=DATE:20160501
LOCATION:
SEQUENCE:0
SUMMARY:BBYO Popsockets
UID:ea465339-9e42-400b-b60d-45a86273e46f
END:VEVENT
END:VCALENDAR
