BEGIN:VCALENDAR
PRODID:-//github.com/rianjs/ical.net//NONSGML ical.net 4.0//EN
VERSION:2.0
BEGIN:VEVENT
DESCRIPTION:Details:\nhttps://bbyo.org/bbyo-near-you/regions/greater-atlan
 ta-region/hear-me-out
DTEND:20060212T040000
DTSTAMP:20260423T200354Z
DTSTART:20060212T020000
LOCATION:Panel of authors and illustrators talk to teens about how to be p
 ublished!
SEQUENCE:0
SUMMARY:Hear Me Out
UID:1130d599-6051-47eb-8117-53973fac2821
END:VEVENT
END:VCALENDAR
