BEGIN:VCALENDAR
PRODID:-//github.com/rianjs/ical.net//NONSGML ical.net 4.0//EN
VERSION:2.0
BEGIN:VEVENT
DESCRIPTION:Details:\nhttps://bbyo.org/bbyo-near-you/regions/nassau-suffol
 k-region/nsr-regional-leadership-training-institute-(rl-(2)\n\nSummary:\n
 For all Regional & Chapter Officers - join us for a day of fun and import
 ant work as we prepare for another amazing year in NSR!
DTEND:20190915T170000
DTSTAMP:20260423T214858Z
DTSTART:20190915T100000
LOCATION:Plainview  New York
SEQUENCE:0
SUMMARY:NSR Regional Leadership Training Institute (RLTI) 2019
UID:6d9b0650-b49a-49dc-9f42-4b69b1c93807
END:VEVENT
END:VCALENDAR
