BEGIN:VCALENDAR
PRODID:-//github.com/rianjs/ical.net//NONSGML ical.net 4.0//EN
VERSION:2.0
BEGIN:VEVENT
DESCRIPTION:Details:\nhttps://bbyo.org/bbyo-near-you/regions/lonestar-regi
 on/stephen-s-wise/wise-stand-up-project-shift-1\n\nSummary:\nJoin wise in
  making care packages for leukemia and lymphoma patients!
DTEND:20210508T193000
DTSTAMP:20260424T223629Z
DTSTART:20210508T183000
LOCATION:godwin Park
SEQUENCE:0
SUMMARY:Wise stand up project shift 1
UID:6f8a1b3f-3f5d-4f9e-a960-5465dcc237f4
END:VEVENT
END:VCALENDAR
