BEGIN:VCALENDAR
PRODID:-//github.com/rianjs/ical.net//NONSGML ical.net 4.0//EN
VERSION:2.0
BEGIN:VEVENT
DESCRIPTION:Details:\nhttps://bbyo.org/bbyo-near-you/regions/mid-america-r
 egion-st-louis-council/haunted-havdallah\n\nSummary:\nCome participate in
  a Haunted Havdallah service and then board a bus and head to Silo X\, on
 e of St. Louis's premier haunted houses.
DTEND:20051029T230000
DTSTAMP:20260420T180506Z
DTSTART:20051029T180000
LOCATION:Marylin Fox Building
SEQUENCE:0
SUMMARY:Haunted Havdallah
UID:f9f2ddc9-7983-46b0-a495-181dd0a3177d
END:VEVENT
END:VCALENDAR
