BEGIN:VCALENDAR
PRODID:-//github.com/rianjs/ical.net//NONSGML ical.net 4.0//EN
VERSION:2.0
BEGIN:VEVENT
DESCRIPTION:Details:\nhttps://bbyo.org/bbyo-near-you/regions/lake-ontario-
 region/lor-2016-03-20-bbyo-connect-limo-scavenger-hunt
DTEND:20160320T160000
DTSTAMP:20260420T133048Z
DTSTART:20160320T130000
LOCATION:Schwartz/Reisman Centre and Prosserman JCC
SEQUENCE:0
SUMMARY:LOR 2016-03-20 - BBYO CONNECT Limo Scavenger Hunt
UID:8f1d955d-5c85-4070-8ce0-644752455c09
END:VEVENT
END:VCALENDAR
