BEGIN:VCALENDAR
PRODID:-//github.com/rianjs/ical.net//NONSGML ical.net 4.0//EN
VERSION:2.0
BEGIN:VEVENT
DESCRIPTION:Details:\nhttps://bbyo.org/bbyo-near-you/regions/lonestar-regi
 on/austin-bbyo-sukkahfest-fundraiser\n\nSummary:\nJoin us for our annual 
 kosher-style BBQ fundraiser at Shalom Austin's Sukkahfest! We will be sel
 ling Hebrew National hot dogs\, veggie burgers\, fresh fruit\, chips\, wa
 ter bottles\, and sodas.\n\n
DTEND:20180926T190000
DTSTAMP:20260423T195355Z
DTSTART:20180926T170000
LOCATION:Austin Texas
SEQUENCE:0
SUMMARY:Austin BBYO Sukkahfest Fundraiser
UID:216a8741-77be-4e8f-ba7d-d939be182df8
END:VEVENT
END:VCALENDAR
