BEGIN:VCALENDAR
PRODID:-//github.com/rianjs/ical.net//NONSGML ical.net 4.0//EN
VERSION:2.0
BEGIN:VEVENT
DESCRIPTION:Details:\nhttps://bbyo.org/bbyo-near-you/regions/great-midwest
 -region/palmach-(1)/chapter-lives-with-the-lads
DTEND:20220527T203000
DTSTAMP:20260421T162125Z
DTSTART:20220527T180000
LOCATION:Chicago Illinois
SEQUENCE:0
SUMMARY:Chapter Lives with the Lads
UID:52cf77d1-3711-4d46-a343-73aad95d0e8f
END:VEVENT
END:VCALENDAR
