BEGIN:VCALENDAR
PRODID:-//github.com/rianjs/ical.net//NONSGML ical.net 4.0//EN
VERSION:2.0
BEGIN:VEVENT
DESCRIPTION:Details:\nhttps://bbyo.org/bbyo-near-you/regions/south-jersey-
 region/sjr-conclave-2020-without-supply-box\n\nSummary:\nJoin SJR BBYO fo
 r our first convention of the 2020-2021 year- Conclave!\n\nConclave will 
 include:\n\n\n	An awesome weekend filled with friends\, spirit\, and fun\
 n	Engaging Shabbat services planned
DTEND:20201115T140000
DTSTAMP:20260419T122842Z
DTSTART:20201113T180000
LOCATION:Zoom
SEQUENCE:0
SUMMARY:SJR Conclave 2020- WITHOUT Supply Box
UID:4a2fb4a4-5b0d-4d32-80c8-86aa8bc5046b
END:VEVENT
END:VCALENDAR
