BEGIN:VCALENDAR
PRODID:-//github.com/rianjs/ical.net//NONSGML ical.net 4.0//EN
VERSION:2.0
BEGIN:VEVENT
DESCRIPTION:Details:\nhttps://bbyo.org/bbyo-near-you/regions/lonestar-regi
 on/houston-azaa-flag-football-spring-2023-week-1
DTEND:20230326T170000
DTSTAMP:20260423T002457Z
DTSTART:20230326T150000
LOCATION:Godwin Park
SEQUENCE:0
SUMMARY:Houston AZAA Flag Football Spring 2023 Week 1
UID:ecf8a057-64d3-4c49-8148-df5fd6023395
END:VEVENT
END:VCALENDAR
