BEGIN:VCALENDAR
PRODID:-//github.com/rianjs/ical.net//NONSGML ical.net 4.0//EN
VERSION:2.0
BEGIN:VEVENT
DESCRIPTION:Details:\nhttps://bbyo.org/bbyo-near-you/regions/great-midwest
 -region/beber-camp
DTEND:20170701T000100
DTSTAMP:20260422T143332Z
DTSTART;VALUE=DATE:20170701
LOCATION:
SEQUENCE:0
SUMMARY:Beber Camp
UID:b036a083-e1e7-4bd7-b420-920479c5e861
END:VEVENT
END:VCALENDAR
