BEGIN:VCALENDAR
PRODID:-//github.com/rianjs/ical.net//NONSGML ical.net 4.0//EN
VERSION:2.0
BEGIN:VEVENT
DESCRIPTION:Details:\nhttps://bbyo.org/bbyo-near-you/regions/north-texas-o
 klahoma-region/ic-launch-night-(1)
DTEND:20230928T210000
DTSTAMP:20260423T043106Z
DTSTART:20230928T190000
LOCATION:Haystack at Hillcrest Village
SEQUENCE:0
SUMMARY:IC Launch Night
UID:bd6754f6-8e5f-44f7-aa9e-4df9ec7d7f25
END:VEVENT
END:VCALENDAR
