BEGIN:VCALENDAR
PRODID:-//github.com/rianjs/ical.net//NONSGML ical.net 4.0//EN
VERSION:2.0
BEGIN:VEVENT
DESCRIPTION:Details:\nhttps://bbyo.org/bbyo-near-you/regions/greater-jerse
 y-region/centennial-shabbat-dinner-(1)
DTEND:20240308T220000
DTSTAMP:20260426T030659Z
DTSTART:20240308T190000
LOCATION:Short Hills\, NJ
SEQUENCE:0
SUMMARY:Centennial Shabbat Dinner
UID:095a40a0-ff7a-4b92-b70c-82339de7b78e
END:VEVENT
END:VCALENDAR
