BEGIN:VCALENDAR
PRODID:-//github.com/rianjs/ical.net//NONSGML ical.net 4.0//EN
VERSION:2.0
BEGIN:VEVENT
DESCRIPTION:Details:\nhttps://bbyo.org/bbyo-near-you/regions/keystone-moun
 tain-region/kmr-ic-registration-party
DTEND:20170926T000100
DTSTAMP:20260425T182814Z
DTSTART;VALUE=DATE:20170926
LOCATION:
SEQUENCE:0
SUMMARY:KMR IC Registration Party
UID:672a74b4-f580-4eaf-bd1b-087dbf482a65
END:VEVENT
END:VCALENDAR
