BEGIN:VCALENDAR
PRODID:-//github.com/rianjs/ical.net//NONSGML ical.net 4.0//EN
VERSION:2.0
BEGIN:VEVENT
DESCRIPTION:Details:\nhttps://bbyo.org/bbyo-near-you/regions/north-texas-o
 klahoma-region/nto-regional-kallah
DTEND;VALUE=DATE:20171029
DTSTAMP:20260425T235338Z
DTSTART;VALUE=DATE:20171027
LOCATION:
SEQUENCE:0
SUMMARY:NTO Regional Kallah
UID:1bbd41a8-d963-4956-9718-4a2c95de0d58
END:VEVENT
END:VCALENDAR
