BEGIN:VCALENDAR
PRODID:-//github.com/rianjs/ical.net//NONSGML ical.net 4.0//EN
VERSION:2.0
BEGIN:VEVENT
DESCRIPTION:Details:\nhttps://bbyo.org/bbyo-near-you/regions/wisconsin-reg
 ion/bbyo-connect-ice-skating
DTEND:20220227T161500
DTSTAMP:20260424T215550Z
DTSTART:20220227T133000
LOCATION:Milwaukee Wisconsin
SEQUENCE:0
SUMMARY:BBYO Connect - Ice Skating
UID:222b8c1a-85aa-44cc-94dd-fc2c8a0ab85c
END:VEVENT
END:VCALENDAR
