BEGIN:VCALENDAR
PRODID:-//github.com/rianjs/ical.net//NONSGML ical.net 4.0//EN
VERSION:2.0
BEGIN:VEVENT
DESCRIPTION:Details:\nhttps://bbyo.org/bbyo-near-you/regions/central-regio
 n-west/crw-ic-launch-night-party-peninsula\n\nSummary:\nCan't wait for In
 ternational Convention in February? Neither can we. Celebrate the opening
  of IC registration with free food and swag\, and bring your credit card 
 so you can be among the firs
DTEND:20181004T183000
DTSTAMP:20260421T130422Z
DTSTART:20181004T163000
LOCATION:Foster City California
SEQUENCE:0
SUMMARY:CRW IC Launch Night Party Peninsula
UID:0480230a-85c4-4ee6-a6f2-8dac180b6e72
END:VEVENT
END:VCALENDAR
