BEGIN:VCALENDAR
PRODID:-//github.com/rianjs/ical.net//NONSGML ical.net 4.0//EN
VERSION:2.0
BEGIN:VEVENT
DESCRIPTION:Details:\nhttps://bbyo.org/bbyo-near-you/regions/nassau-suffol
 k-region/bbg-shabbat
DTEND:20061110T210000
DTSTAMP:20260420T131752Z
DTSTART:20061110T190000
LOCATION:TBA
SEQUENCE:0
SUMMARY:BBG Shabbat
UID:25c6a045-d29d-4b59-823f-7876ea0660bb
END:VEVENT
END:VCALENDAR
