BEGIN:VCALENDAR
PRODID:-//github.com/rianjs/ical.net//NONSGML ical.net 4.0//EN
VERSION:2.0
BEGIN:VEVENT
DESCRIPTION:Details:\nhttps://bbyo.org/bbyo-near-you/regions/great-midwest
 -region/israel-teen-event
DTEND:20231018T210000
DTSTAMP:20260419T185746Z
DTSTART:20231018T180000
LOCATION:JCC
SEQUENCE:0
SUMMARY:Israel Teen Event
UID:8ec63391-5734-4789-bcea-4ea5ee960fed
END:VEVENT
END:VCALENDAR
