BEGIN:VCALENDAR
PRODID:-//github.com/rianjs/ical.net//NONSGML ical.net 4.0//EN
VERSION:2.0
BEGIN:VEVENT
DESCRIPTION:Details:\nhttps://bbyo.org/bbyo-near-you/regions/keystone-moun
 tain-region/regional-board-retreat
DTEND:20190821T120000
DTSTAMP:20260423T201046Z
DTSTART:20190820T180000
LOCATION:pittsburgh Pennsylvania
SEQUENCE:0
SUMMARY:Regional Board Retreat
UID:51eba368-d997-4ab1-9b09-3f4630c2c289
END:VEVENT
END:VCALENDAR
