BEGIN:VCALENDAR
PRODID:-//github.com/rianjs/ical.net//NONSGML ical.net 4.0//EN
VERSION:2.0
BEGIN:VEVENT
DESCRIPTION:Details:\nhttps://bbyo.org/bbyo-near-you/regions/pacific-weste
 rn-region/tov-b-yachad/tov-b-yachad-drive-in
DTEND:20221203T200000
DTSTAMP:20260420T153403Z
DTSTART:20221203T180000
LOCATION:Newport Beach California
SEQUENCE:0
SUMMARY:Tov B'Yachad Drive In
UID:1b74ce05-0ef1-43dc-a89c-f07a111edfcf
END:VEVENT
END:VCALENDAR
