BEGIN:VCALENDAR
PRODID:-//github.com/rianjs/ical.net//NONSGML ical.net 4.0//EN
VERSION:2.0
BEGIN:VEVENT
DESCRIPTION:Details:\nhttps://bbyo.org/bbyo-near-you/regions/wisconsin-reg
 ion/chametz-oneg
DTEND:20240419T173300
DTSTAMP:20260421T222429Z
DTSTART:20240419T153300
LOCATION:
SEQUENCE:0
SUMMARY:Chametz Oneg
UID:49658256-0504-47a3-8f8c-2a4a3f597d5f
END:VEVENT
END:VCALENDAR
