BEGIN:VCALENDAR
PRODID:-//github.com/rianjs/ical.net//NONSGML ical.net 4.0//EN
VERSION:2.0
BEGIN:VEVENT
DESCRIPTION:Details:\nhttps://bbyo.org/bbyo-near-you/regions/ohio-northern
 -region/onr-cedar-brook-financial-lti-2015-(pc3010)\n\nSummary:\nCome joi
 n us for our 2nd convention of the year: Cedar Brook Financial Leadership
  Training Institute (LTI)! The 30th Regional Board will be planning a wee
 kend where everyone will have an awe
DTEND:20151115T120000
DTSTAMP:20260423T201644Z
DTSTART:20151113T173000
LOCATION:Camp Wise
SEQUENCE:0
SUMMARY:ONR - Cedar Brook Financial LTI 2015 - (PC3010)
UID:c5b91a87-3a56-4622-a63c-e4c67a1b18a4
END:VEVENT
END:VCALENDAR
