BEGIN:VCALENDAR
PRODID:-//github.com/rianjs/ical.net//NONSGML ical.net 4.0//EN
VERSION:2.0
BEGIN:VEVENT
DESCRIPTION:Details:\nhttps://bbyo.org/bbyo-near-you/regions/mid-america-r
 egion-st-louis-council/src-pump-up
DTEND:20220426T200000
DTSTAMP:20260425T211025Z
DTSTART:20220426T190000
LOCATION:Chesterfield JCC
SEQUENCE:0
SUMMARY:SRC Pump Up
UID:5c6afb3b-a881-4ee6-add6-9c9655e9c895
END:VEVENT
END:VCALENDAR
