BEGIN:VCALENDAR
PRODID:-//github.com/rianjs/ical.net//NONSGML ical.net 4.0//EN
VERSION:2.0
BEGIN:VEVENT
DESCRIPTION:Details:\nhttps://bbyo.org/bbyo-near-you/regions/central-regio
 n-west/tri-bro-overnight-tri-bro-rodeo
DTEND:20200301T120000
DTSTAMP:20260423T042700Z
DTSTART:20200229T170000
LOCATION:APJCC
SEQUENCE:0
SUMMARY:Tri Bro overnight: TRI BRO RODEO
UID:c646a7ba-6f7a-4ecd-a14b-20a30e8cd8c0
END:VEVENT
END:VCALENDAR
