BEGIN:VCALENDAR
PRODID:-//github.com/rianjs/ical.net//NONSGML ical.net 4.0//EN
VERSION:2.0
BEGIN:VEVENT
DESCRIPTION:Details:\nhttps://bbyo.org/bbyo-near-you/regions/hudson-valley
 -region/cltc-1-2019\n\nSummary:\nAt Chapter Leadership Training Conferenc
 e (CLTC)\, you'll discover what it means to be a leader and attain lifelo
 ng leadership skills.You'll also gain greater self-confidence...
DTEND:20190616T090000
DTSTAMP:20260425T235355Z
DTSTART:20190604T120000
LOCATION:Mukwonago Wisconsin
SEQUENCE:0
SUMMARY:CLTC 1 2019
UID:7d13352b-c13a-42a1-ae07-f5fdfe2437ba
END:VEVENT
END:VCALENDAR
