BEGIN:VCALENDAR
PRODID:-//github.com/rianjs/ical.net//NONSGML ical.net 4.0//EN
VERSION:2.0
BEGIN:VEVENT
DESCRIPTION:Details:\nhttps://bbyo.org/bbyo-near-you/regions/greater-atlan
 ta-region/atl-lti-2016
DTEND;VALUE=DATE:20160828
DTSTAMP:20260423T200923Z
DTSTART;VALUE=DATE:20160826
LOCATION:Camp Coleman
SEQUENCE:0
SUMMARY:ATL-LTI-2016
UID:c6225fff-642a-434b-930b-f2df027e83d6
END:VEVENT
END:VCALENDAR
