BEGIN:VCALENDAR
PRODID:-//github.com/rianjs/ical.net//NONSGML ical.net 4.0//EN
VERSION:2.0
BEGIN:VEVENT
DESCRIPTION:Details:\nhttps://bbyo.org/bbyo-near-you/regions/great-midwest
 -region/givingbbyoday-suburbs
DTEND:20221129T210000
DTSTAMP:20260422T143615Z
DTSTART:20221129T190000
LOCATION:
SEQUENCE:0
SUMMARY:#givingBBYOday Suburbs
UID:d15788da-dc0a-45b2-8da5-c43f6dd45bfc
END:VEVENT
END:VCALENDAR
