BEGIN:VCALENDAR
PRODID:-//github.com/rianjs/ical.net//NONSGML ical.net 4.0//EN
VERSION:2.0
BEGIN:VEVENT
DESCRIPTION:Details:\nhttps://bbyo.org/bbyo-near-you/regions/keystone-moun
 tain-region/kmr-ic-2017-registration-party!\n\nSummary:\nJoin us as we pa
 rty to welcome registration for International Convention 2017 in Dallas\,
  Texas! Bring your laptops to register and we'll supply the food and drin
 ks! \n\n\nOver Presidents’ Da
DTEND:20160927T203000
DTSTAMP:20260420T132400Z
DTSTART:20160927T183000
LOCATION:The Second Floor (Squirrel Hill JCC)
SEQUENCE:0
SUMMARY:KMR: IC 2017 Registration Party!
UID:723559f9-25d1-45fa-862b-398d36996f95
END:VEVENT
END:VCALENDAR
