BEGIN:VCALENDAR
PRODID:-//github.com/rianjs/ical.net//NONSGML ical.net 4.0//EN
VERSION:2.0
BEGIN:VEVENT
DESCRIPTION:Details:\nhttps://bbyo.org/bbyo-near-you/regions/kentucky-indi
 ana-ohio-region/24th-annual-drew-corson-basketball-tournament-bbg-\n\nSum
 mary:\nJoin us for the 24th annual Drew Corson Memorial Basketball Tourna
 ment/ BBG Sisterhood Weekend on December 7-8\, 2018 in Louisville!
DTEND:20181208T200000
DTSTAMP:20260421T100856Z
DTSTART:20181207T180000
LOCATION:Louisville Kentucky
SEQUENCE:0
SUMMARY:24th Annual Drew Corson Basketball Tournament/BBG Sisterhood Weeke
 nd
UID:b5011e6e-2ef1-4481-bea1-64a85d27d32e
END:VEVENT
END:VCALENDAR
