BEGIN:VCALENDAR
PRODID:-//github.com/rianjs/ical.net//NONSGML ical.net 4.0//EN
VERSION:2.0
BEGIN:VEVENT
DESCRIPTION:Details:\nhttps://bbyo.org/bbyo-near-you/regions/rocky-mountai
 n-region/aza-denver-rush\n\nSummary:\nLocations TBD.\n\nCome and join our
  Denver AZA chapters for an exciting afternoon! There will be events to g
 et to know the Alephs of 6 and the Alephs of 705 happening back to back. 
 We will pos
DTEND:20200301T153000
DTSTAMP:20260425T182918Z
DTSTART:20200301T120000
LOCATION:locations TBD
SEQUENCE:0
SUMMARY:AZA Denver Rush
UID:d573427b-feb0-4c97-b67e-35c51872925a
END:VEVENT
END:VCALENDAR
