BEGIN:VCALENDAR
PRODID:-//github.com/rianjs/ical.net//NONSGML ical.net 4.0//EN
VERSION:2.0
BEGIN:VEVENT
DESCRIPTION:Details:\nhttps://bbyo.org/bbyo-near-you/regions/manhattan-reg
 ion/mhr-rush-night!\n\nSummary:\nProspective members are invited to learn
  about each of BBYO Manhattan Region's chapters during a fun night filled
  with music\, videos\, and a Q&A! If you sign up now you will receive a s
 urprise gift :)
DTEND:20201029T213000
DTSTAMP:20260420T191912Z
DTSTART:20201029T200000
LOCATION:Zoom
SEQUENCE:0
SUMMARY:MHR Rush Night!
UID:59a29d57-097b-4718-b8aa-5bedd53a9a58
END:VEVENT
END:VCALENDAR
