BEGIN:VCALENDAR
PRODID:-//github.com/rianjs/ical.net//NONSGML ical.net 4.0//EN
VERSION:2.0
BEGIN:VEVENT
DESCRIPTION:Details:\nhttps://bbyo.org/bbyo-near-you/regions/greater-jerse
 y-region/gjhrr-member-in-training-(mit)-convention-2023\n\nSummary:\nPlea
 se join us for our annual MIT (Member In Training) Convention in Newark\,
  NJ.  This convention is specifically geared toward new members and is th
 e first convention that 8th Graders can attend!!!!\n\nThe weekend will be
  filled with fun  and meaningful programs sharing the foundation of BBYO\
 , music\, Havdalah services\, and an induction ceremony for all new AZA a
 nd BBG members. \n\nEach participant is entitled to up to ONE roommate re
 quest.  All rooms accommodate 4 teens with two queen sized beds.  ALL req
 uests must be 100% mutual in order to be considered. We encourage all mem
 bers to utilize this experience to meet other new members and make new fr
 iends!! \n\nBusing will be provided from Marlboro and Paramus. *PLEASE NO
 TE--THERE IS NO TEEN DRIVING TO ANY BBYO OVERNIGHT!!\n\nCancellation refu
 nds will be granted up until Thursday\, March 2nd at 11:59pm.  ALL cancel
 lation refunds will be subject to a $36 administrative fee.  Following Ma
 rch 2nd\, there will be no refunds due to cancellation.  In the event of 
 a Covid-19 related cancellation\, please contact bghancock@bbyo.org for f
 urther information. \n\nIf you would like to apply for a scholarship for 
 this convention\, you must submit your your request no later than Thursda
 y\, March 2nd by clicking the following link: https://bbyo.org/scholarshi
 p-form \n\nRegistration will close on Friday\, February 17th\, 5pm. \n\nP
 lease check out the MIT Overnight FAQ By Clicking Here\n\nPlease direct q
 uestions about the convention to the regional email address (gjhrr@bbyo.o
 rg) or call the regional office at 908-925-0310.
DTEND:20230319T163000
DTSTAMP:20260421T141052Z
DTSTART:20230318T163000
LOCATION:Newark New Jersey
SEQUENCE:0
SUMMARY:GJHRR MEMBER IN TRAINING (MIT) CONVENTION 2023
UID:1d91a410-2d43-4a52-84ee-96b591e54b60
END:VEVENT
END:VCALENDAR
