BEGIN:VCALENDAR
PRODID:-//github.com/rianjs/ical.net//NONSGML ical.net 4.0//EN
VERSION:2.0
BEGIN:VEVENT
DESCRIPTION:Details:\nhttps://bbyo.org/bbyo-near-you/regions/lake-ontario-
 region/lor-2016-05-29-bbyo-at-uja-s-walk-with-israel
DTEND:20160529T143000
DTSTAMP:20260424T170959Z
DTSTART:20160529T090000
LOCATION:Coronation Park
SEQUENCE:0
SUMMARY:LOR 2016-05-29 - BBYO at UJA's Walk With Israel
UID:357287f6-b025-44b0-96d5-4d60f956cc59
END:VEVENT
END:VCALENDAR
