BEGIN:VCALENDAR
PRODID:-//github.com/rianjs/ical.net//NONSGML ical.net 4.0//EN
VERSION:2.0
BEGIN:VEVENT
DESCRIPTION:Details:\nhttps://bbyo.org/bbyo-near-you/regions/liberty-regio
 n/liberty-wow-weekend-2016-(pc3030)\n\nSummary:\nJoin us at WOW Weekend 2
 016 April 15th-17th in Newark\, DE! WOW Weekend will include awesome prog
 ramming such as an exciting VIP guest speaker/performer\, inspiring progr
 ams from your Brother
DTEND:20160417T130000
DTSTAMP:20260419T213551Z
DTSTART:20160415T170000
LOCATION:Newark\, DE Embassy Suites
SEQUENCE:0
SUMMARY:Liberty WOW Weekend 2016 - (PC3030)
UID:a7c775ab-1345-49a0-9117-b3add00267fa
END:VEVENT
END:VCALENDAR
