BEGIN:VCALENDAR
PRODID:-//github.com/rianjs/ical.net//NONSGML ical.net 4.0//EN
VERSION:2.0
BEGIN:VEVENT
DESCRIPTION:Details:\nhttps://bbyo.org/bbyo-near-you/regions/michigan-regi
 on/ifly-leadership-training-(1)
DTEND:20240307T200000
DTSTAMP:20260423T001929Z
DTSTART:20240307T170000
LOCATION:Novi Michigan
SEQUENCE:0
SUMMARY:iFLY Leadership Training
UID:ba6129dc-a747-4be4-ab15-dd429ebb7666
END:VEVENT
END:VCALENDAR
