BEGIN:VCALENDAR
PRODID:-//github.com/rianjs/ical.net//NONSGML ical.net 4.0//EN
VERSION:2.0
BEGIN:VEVENT
DESCRIPTION:Details:\nhttps://bbyo.org/bbyo-near-you/regions/hudson-valley
 -region/hvr-execs-(makeup)
DTEND:20230927T203000
DTSTAMP:20260419T185739Z
DTSTART:20230927T183000
LOCATION:JCC Mid-Westchester
SEQUENCE:0
SUMMARY:HVR Execs (Makeup)
UID:0e7a8c87-bcd2-4e84-90cc-89cb533d0108
END:VEVENT
END:VCALENDAR
