BEGIN:VCALENDAR
PRODID:-//github.com/rianjs/ical.net//NONSGML ical.net 4.0//EN
VERSION:2.0
BEGIN:VEVENT
DESCRIPTION:Details:\nhttps://bbyo.org/bbyo-near-you/regions/wisconsin-reg
 ion/wi-azaa-bbgg-jan-2019-volleyball\n\nSummary:\nAZAA and BBGG team up f
 or the most epic season of BBYO sports yet! Thursday evenings\, January 3
 -31.
DTEND;VALUE=DATE:20190131
DTSTAMP:20260420T103348Z
DTSTART;VALUE=DATE:20190103
LOCATION:JCC Gym
SEQUENCE:0
SUMMARY:WI - AZAA/BBGG - Jan 2019 - Volleyball
UID:fa36b1d7-309e-4924-925e-88ac37728905
END:VEVENT
END:VCALENDAR
