BEGIN:VCALENDAR
PRODID:-//github.com/rianjs/ical.net//NONSGML ical.net 4.0//EN
VERSION:2.0
BEGIN:VEVENT
DESCRIPTION:Details:\nhttps://bbyo.org/bbyo-near-you/regions/lake-ontario-
 region/spring-convention-(6)
DTEND;VALUE=DATE:20060528
DTSTAMP:20260421T100117Z
DTSTART;VALUE=DATE:20060526
LOCATION:Camp Northland
SEQUENCE:0
SUMMARY:Spring Convention
UID:02992c2e-00fa-4ac0-a328-bd44068a9eee
END:VEVENT
END:VCALENDAR
