BEGIN:VCALENDAR
PRODID:-//github.com/rianjs/ical.net//NONSGML ical.net 4.0//EN
VERSION:2.0
BEGIN:VEVENT
DESCRIPTION:Details:\nhttps://bbyo.org/bbyo-near-you/regions/michigan-regi
 on/hatmadah/hatmadah-brunch-bbyo-box-making
DTEND:20240526T160000
DTSTAMP:20260420T065101Z
DTSTART:20240526T130000
LOCATION:Ella’s house
SEQUENCE:0
SUMMARY:Hatmadah Brunch + BBYO Box Making
UID:16a3bb4a-506f-44a5-af9a-cfe8133cd7b1
END:VEVENT
END:VCALENDAR
