BEGIN:VCALENDAR
PRODID:-//github.com/rianjs/ical.net//NONSGML ical.net 4.0//EN
VERSION:2.0
BEGIN:VEVENT
DESCRIPTION:Details:\nhttps://bbyo.org/bbyo-near-you/regions/michigan-regi
 on/regional-convention-2023
DTEND:20231203T160000
DTSTAMP:20260423T233541Z
DTSTART:20231201T150000
LOCATION:Tamarack Camps
SEQUENCE:0
SUMMARY:Regional Convention 2023
UID:14cbadc8-62ce-4c49-a307-f5404e84f077
END:VEVENT
END:VCALENDAR
