BEGIN:VCALENDAR
PRODID:-//github.com/rianjs/ical.net//NONSGML ical.net 4.0//EN
VERSION:2.0
BEGIN:VEVENT
DESCRIPTION:Details:\nhttps://bbyo.org/bbyo-near-you/regions/north-florida
 -region/orlando-states\,-lives\,-elections\n\nSummary:\nJoin the Orlando 
 BBYO chapters as each chapter president gives the State of the Chapter\, 
 listen to the seniors give their chapter lives\, and elect new chapter bo
 ards in the morning. Cost: $2
DTEND:20160522T110000
DTSTAMP:20260426T030257Z
DTSTART:20160521T193000
LOCATION:The Roth Family JCC
SEQUENCE:0
SUMMARY:Orlando States\, Lives\, Elections
UID:4875e664-e9af-4e89-bfa1-38574cd2432a
END:VEVENT
END:VCALENDAR
