BEGIN:VCALENDAR
PRODID:-//github.com/rianjs/ical.net//NONSGML ical.net 4.0//EN
VERSION:2.0
BEGIN:VEVENT
DESCRIPTION:Details:\nhttps://bbyo.org/bbyo-near-you/regions/keystone-moun
 tain-region/kmr-mystery-deluxe-box\n\nSummary:\nThank you so much in your
  interest of the Deluxe Mystery Box.
DTEND:20210224T180000
DTSTAMP:20260421T083945Z
DTSTART:20210224T170000
LOCATION:
SEQUENCE:0
SUMMARY:KMR Mystery Deluxe Box
UID:dd396d71-6ee3-482c-ab01-3f03a1fff00b
END:VEVENT
END:VCALENDAR
