BEGIN:VCALENDAR
PRODID:-//github.com/rianjs/ical.net//NONSGML ical.net 4.0//EN
VERSION:2.0
BEGIN:VEVENT
DESCRIPTION:Details:\nhttps://bbyo.org/bbyo-near-you/regions/evergreen-reg
 ion/ic-spirit-pack
DTEND;VALUE=DATE:20170201
DTSTAMP:20260423T195304Z
DTSTART;VALUE=DATE:20170201
LOCATION:IC!
SEQUENCE:0
SUMMARY:IC Spirit Pack
UID:fdde435e-5783-4df1-9d86-336e91899b7f
END:VEVENT
END:VCALENDAR
